BEGIN:VCALENDAR
VERSION:2.0
PRODID:-//eventon.com NONSGML v1.0//EN
CALSCALE:GREGORIAN
METHOD:PUBLISH
BEGIN:VEVENT
UID:69eb9e081cbe8
DTSTAMP:20260424T164456Z
DTSTART:20210819T184500Z
DTEND:20210819T215000Z
LOCATION:Salsta Slott Lena Salsta 63\,  Vattholma
SUMMARY:Spökvandring
DESCRIPTION:NÄR AUGUSTIMÖRKRET FALLER ÖVER SALSTA… VAD: Årets första
  spökvandring. NÄR: Torsdag 19 augusti kl 20.45 HUR: Bokning till info@sa
 lsta-slott.se 120kr/vuxen\,  60kr/barn upp till nio år. Begränsat antal p
 latser. Turen går genom ett mörkt slott. Ta med egen ficklampa och en try
 gg hand att hålla i.\nhttps://astraken.se/events/spokvandring/
URL:https://astraken.se/events/spokvandring/
END:VEVENT
END:VCALENDAR