BEGIN:VCALENDAR
VERSION:2.0
PRODID:-//eventon.com NONSGML v1.0//EN
CALSCALE:GREGORIAN
METHOD:PUBLISH
BEGIN:VEVENT
UID:69eb838eb74af
DTSTAMP:20260424T145158Z
DTSTART:20210906T160000Z
DTEND:20210906T215000Z
LOCATION:
SUMMARY:Utomhusteater - Hamlet
DESCRIPTION:Måndag 6 september utomhusteater i slottsträdgården Hamlet k
 l.18. Läs mer här. Biljettpris 300 kr. Boka plats på info@salsta-slott.s
 e\nhttps://astraken.se/events/utomhusteater-hamlet/
URL:https://astraken.se/events/utomhusteater-hamlet/
END:VEVENT
END:VCALENDAR