BEGIN:VCALENDAR
VERSION:2.0
PRODID:-//eventon.com NONSGML v1.0//EN
CALSCALE:GREGORIAN
METHOD:PUBLISH
BEGIN:VEVENT
UID:69eb86ecd9588
DTSTAMP:20260424T150620Z
DTSTART:20211016T140000Z
DTEND:20211016T215000Z
LOCATION:
SUMMARY:Debussy trio
DESCRIPTION:Lördag 16 oktober kl.16 Debussy trio Moa Bromander (flöjt)\, 
  Ester Forsberg (viola) och Stina Hellberg Agback (harpa) har sammanstråla
 t i en trio som tar avstamp i Debussys berömda sonata för denna besättni
 ng. Biljettpriset är 200kr/person och biljetter bokas på info@salsta-slot
 t.se\nhttps://astraken.se/events/debussy-trio/
URL:https://astraken.se/events/debussy-trio/
END:VEVENT
END:VCALENDAR