BEGIN:VCALENDAR
VERSION:2.0
PRODID:-//eventon.com NONSGML v1.0//EN
CALSCALE:GREGORIAN
METHOD:PUBLISH
BEGIN:VEVENT
UID:69ebab4917194
DTSTAMP:20260424T174129Z
DTSTART:20210819T170000Z
DTEND:20210819T215000Z
LOCATION:Salsta Slott Lena Salsta 63\,  Vattholma
SUMMARY:Trio X
DESCRIPTION:Torsdag 19 augusti kl.19 gästas Salsta av Trio x\,  en av Sver
 iges främsta jazzensembler\,  bestående av Lennart Simonsson\,  piano\,  
 Per V Johansson\,  bas och Joakim Ekberg\,  trummor. Biljettpriset är 200k
 r/person och biljetter bokas på info@salsta-slott.se\nhttps://astraken.se/
 events/trio-x/
URL:https://astraken.se/events/trio-x/
END:VEVENT
END:VCALENDAR