BEGIN:VCALENDAR
VERSION:2.0
PRODID:-//eventon.com NONSGML v1.0//EN
CALSCALE:GREGORIAN
METHOD:PUBLISH
BEGIN:VEVENT
UID:69eb892743878
DTSTAMP:20260424T151551Z
DTSTART:20210829T160000Z
DTEND:20210829T170000Z
LOCATION:
SUMMARY:Sommarmusik - "Sagan om Uppland"
DESCRIPTION:29 aug 18.00 i Björklinge kyrka ”Sagan om Uppland” Cajsa E
 kstav nyckelharpa\,  Örjan Englund dragspel\,  Anders Bromander orgel och 
 piano.\nhttps://astraken.se/events/sommarmusik-sagan-om-uppland/
URL:https://astraken.se/events/sommarmusik-sagan-om-uppland/
END:VEVENT
END:VCALENDAR