BEGIN:VCALENDAR
VERSION:2.0
PRODID:-//eventon.com NONSGML v1.0//EN
CALSCALE:GREGORIAN
METHOD:PUBLISH
BEGIN:VEVENT
UID:69eb893e2abe4
DTSTAMP:20260424T151614Z
DTSTART:20210815T160000Z
DTEND:20210815T170000Z
LOCATION:Vendels kyrka
SUMMARY:Musik i sommar - Voice of heart\,  Erland Söderström
DESCRIPTION:Musik i sommar - Voice of heart\,  Erland Söderström\nhttps:/
 /astraken.se/events/musik-i-sommar-voice-of-heart-erland-soderstrom/
URL:https://astraken.se/events/musik-i-sommar-voice-of-heart-erland-soderstrom/
END:VEVENT
END:VCALENDAR