BEGIN:VCALENDAR
VERSION:2.0
PRODID:-//eventon.com NONSGML v1.0//EN
CALSCALE:GREGORIAN
METHOD:PUBLISH
BEGIN:VEVENT
UID:69eb863fc1be4
DTSTAMP:20260424T150327Z
DTSTART:20210711T160000Z
DTEND:20210711T170000Z
LOCATION:Vendels kyrka
SUMMARY:Musik i sommar
DESCRIPTION:Daniel Östersjö\,  Elsie Johansson\nhttps://astraken.se/event
 s/musik-i-sommar/
URL:https://astraken.se/events/musik-i-sommar/
END:VEVENT
END:VCALENDAR