BEGIN:VCALENDAR
VERSION:2.0
PRODID:-//eventon.com NONSGML v1.0//EN
CALSCALE:GREGORIAN
METHOD:PUBLISH
BEGIN:VEVENT
UID:69eb847a3b3ec
DTSTAMP:20260424T145554Z
DTSTART:20210807T103000Z
DTEND:20210807T140000Z
LOCATION:
SUMMARY:Extrainsatta temavisningar
DESCRIPTION:Den 7-8 och 14-15 augusti håller vi extrainsatta visningar om 
 olika teman som rör vikingatiden. Du bokar in dig på plats i Gamla Uppsal
 a samma dag som du vill gå visning. Bokning sker i tältet utanför museet
  eller vid dåligt väder i museets reception. Vi kommer också ha våra he
 lt[..]\nhttps://astraken.se/events/extrainsatta-temavisningar/
URL:https://astraken.se/events/extrainsatta-temavisningar/
END:VEVENT
END:VCALENDAR