BEGIN:VCALENDAR
VERSION:2.0
PRODID:-//eventon.com NONSGML v1.0//EN
CALSCALE:GREGORIAN
METHOD:PUBLISH
BEGIN:VEVENT
UID:69eb9fa950164
DTSTAMP:20260424T165153Z
DTSTART:20210724T160000Z
DTEND:20210724T215000Z
LOCATION:
SUMMARY:Musik i sommarkväll - "Mellan två världar"
DESCRIPTION:Gamla Uppsala kyrka bjuder på musik i sommarkväll under juli 
 månad. Lördag 24 juli kl 18 ”Mellan två världar” Duo Francett – s
 ång\,  violin och kontrabas Argentinsk tango i Piazzollas tappning möter 
 opera. De binds samman av sin förmåga att skildra samspelet mellan ondska
  och godhet\,  hat och kärlek. Dessa[..]\nhttps://astraken.se/events/musik
 -i-sommarkvall-mellan-tva-varldar/
URL:https://astraken.se/events/musik-i-sommarkvall-mellan-tva-varldar/
END:VEVENT
END:VCALENDAR