BEGIN:VCALENDAR
VERSION:2.0
PRODID:-//eventon.com NONSGML v1.0//EN
CALSCALE:GREGORIAN
METHOD:PUBLISH
BEGIN:VEVENT
UID:69eb9e7ad53a2
DTSTAMP:20260424T164650Z
DTSTART:20210717T160000Z
DTEND:20210717T215000Z
LOCATION:
SUMMARY:Musik i sommarkväll - "En blomma i natten"
DESCRIPTION:Gamla Uppsala kyrka bjuder på musik i sommarkväll under juli 
 månad. Lördag 17 juli kl 18 ”En blomma i natten”- folkmusik i ord och
  ton med Erika och Cecilia Uppländska Erika &amp; Cecilia (Erika Lindgren 
 Liljenstolpe och Cecilia Österholm) spelar folkmusik i duoformat. Musiken 
 bygger på två akustiska instrument (fiol[..]\nhttps://astraken.se/events/
 musik-i-sommarkvall-en-blomma-i-natten/
URL:https://astraken.se/events/musik-i-sommarkvall-en-blomma-i-natten/
END:VEVENT
END:VCALENDAR