BEGIN:VCALENDAR
VERSION:2.0
PRODID:-//eventon.com NONSGML v1.0//EN
CALSCALE:GREGORIAN
METHOD:PUBLISH
BEGIN:VEVENT
UID:69eb8859285b0
DTSTAMP:20260424T151225Z
DTSTART:20210710T160000Z
DTEND:20210710T215000Z
LOCATION:
SUMMARY:Musik i sommarkväll - Piazzolla 100 år
DESCRIPTION:Gamla Uppsala kyrka bjuder på musik i sommarkväll under juli 
 månad. Lördag 10 juli kl 18 ”Piazzolla 100 år” Emma Beskow\,  cello.
  Jens Lundberg\,  bandoneon. Astor Piazzolla\,  förnyaren av den argentins
 ka tangon\,  fyller 100 år. Duo Lundberg/Beskow\,  bestående av Jens Lund
 berg på bandoneon och Emma Beskow på cello berättar om[..]\nhttps://astr
 aken.se/events/musik-i-sommarkvall-piazzolla-100-ar/
URL:https://astraken.se/events/musik-i-sommarkvall-piazzolla-100-ar/
END:VEVENT
END:VCALENDAR