BEGIN:VCALENDAR
VERSION:2.0
PRODID:-//eventon.com NONSGML v1.0//EN
CALSCALE:GREGORIAN
METHOD:PUBLISH
BEGIN:VEVENT
UID:69eb848a48230
DTSTAMP:20260424T145610Z
DTSTART:20210704T123000Z
DTEND:20210731T150000Z
LOCATION:
SUMMARY:Konstutställning - "Sanning"
DESCRIPTION:Vernissage: 4 Juli\,  Söndag\,  kl.14:30 Pågår: 4 Juli – 3
 1 Juli Skulpturutställning utomhus Gästkonstnär: Burt Olsson\nhttps://as
 traken.se/events/konstutstallning-sanning/
URL:https://astraken.se/events/konstutstallning-sanning/
END:VEVENT
END:VCALENDAR