BEGIN:VCALENDAR
VERSION:2.0
PRODID:-//eventon.com NONSGML v1.0//EN
CALSCALE:GREGORIAN
METHOD:PUBLISH
BEGIN:VEVENT
UID:69eb9e78c994c
DTSTAMP:20260424T164648Z
DTSTART:20210703T123000Z
DTEND:20210809T150000Z
LOCATION:Ulva kvarn Ulva 15
SUMMARY:Konstutställning - "Väntan" - RackarArt
DESCRIPTION:Konst- och skulpturutställning\,  mestadels utomhus vid Ulva k
 varn. Vernissage: 3 Juli\,  Lördag\,  kl.13:00 Pågår: 3 Juli – 9 Augus
 ti\nhttps://astraken.se/events/konstutstallning-vantan-rackarart/
URL:https://astraken.se/events/konstutstallning-vantan-rackarart/
END:VEVENT
END:VCALENDAR