BEGIN:VCALENDAR
VERSION:2.0
PRODID:-//eventon.com NONSGML v1.0//EN
CALSCALE:GREGORIAN
METHOD:PUBLISH
BEGIN:VEVENT
UID:69eb841e120c3
DTSTAMP:20260424T145422Z
DTSTART:20210807T090000Z
DTEND:20210807T140000Z
LOCATION:Ulva kvarn Ulva 15
SUMMARY:Vikingadagar i Ulva
DESCRIPTION:Helgen den 7-8 Augusti\,  kl.11-16 Helgen den 14-15 Augusti\,  
 kl.11-16 Mer info: ulvakvarn.com\nhttps://astraken.se/events/vikingadagar-i
 -ulva/
URL:https://astraken.se/events/vikingadagar-i-ulva/
END:VEVENT
END:VCALENDAR