BEGIN:VCALENDAR
VERSION:2.0
PRODID:-//eventon.com NONSGML v1.0//EN
CALSCALE:GREGORIAN
METHOD:PUBLISH
BEGIN:VEVENT
UID:69eb84139062f
DTSTAMP:20260424T145411Z
DTSTART:20210711T090000Z
DTEND:20210711T130000Z
LOCATION:Ulva kvarn Ulva 15
SUMMARY:Ulva bakluckeloppis
DESCRIPTION:Loppisen är öppen 11-15. Toaletter finns inne i Ulva kvarn om
 rådet. Det finns en ingång och en utgång på loppisen som är markerad. 
 Håll till höger när du går och välj en av loppisvägarna som för till
 fället har minst besökare. Ta hänsyn och håll avstånd. Använd Swish\,
   undvik kontanter. Mer[..]\nhttps://astraken.se/events/ulva-bakluckeloppis
 /
URL:https://astraken.se/events/ulva-bakluckeloppis/
END:VEVENT
END:VCALENDAR