BEGIN:VCALENDAR
VERSION:2.0
PRODID:-//eventon.com NONSGML v1.0//EN
CALSCALE:GREGORIAN
METHOD:PUBLISH
BEGIN:VEVENT
UID:69eb9d262ba70
DTSTAMP:20260424T164110Z
DTSTART:20211120T090000Z
DTEND:20211120T150000Z
LOCATION:Ulva kvarn Ulva 15
SUMMARY:Ulva julmarknad
DESCRIPTION:Väck julstämningen i ditt hjärta under vår mysiga julmarkna
 d\,  helgen innan första advent 2021. Vi bjuder på vacker körsång under
  dagen och en spännande eldshow när mörkret faller. På marknaden sälje
 r vi också Ulvas egentillverkade glögg. Ät gott\,  njut av stämningen o
 ch julklappshandla unika hantverk till dina nära och kära.[..]\nhttps://a
 straken.se/events/ulva-julmarknad/
URL:https://astraken.se/events/ulva-julmarknad/
END:VEVENT
END:VCALENDAR