BEGIN:VCALENDAR
VERSION:2.0
PRODID:-//eventon.com NONSGML v1.0//EN
CALSCALE:GREGORIAN
METHOD:PUBLISH
BEGIN:VEVENT
UID:69ebadafa8f08
DTSTAMP:20260424T175143Z
DTSTART:20210814T090000Z
DTEND:20210814T140000Z
LOCATION:Ulva kvarn Ulva 15
SUMMARY:Sten- & mineralmarknad
DESCRIPTION:14 Augusti\,  Lördag\,  kl.11-16 15 Augusti\,  Söndag\, kl.11
 -16 Sten- och Mineralmässa i Ulva Kvarns hantverksby. Mässan innefattar f
 örsäljning av mineraler\,  ädelstenar samt att de besökare som vill erb
 juds att prova på konsten att slipa stenar. Mässan består av en bredd ol
 ika entusiastiska aktörer såsom geologer\,  gemmologer\,  stenslipare och
  juvelförsäljare. Ansvaring för[..]\nhttps://astraken.se/events/sten-min
 eralmarknad/
URL:https://astraken.se/events/sten-mineralmarknad/
END:VEVENT
END:VCALENDAR