BEGIN:VCALENDAR
VERSION:2.0
PRODID:-//eventon.com NONSGML v1.0//EN
CALSCALE:GREGORIAN
METHOD:PUBLISH
BEGIN:VEVENT
UID:69eb840ba6567
DTSTAMP:20260424T145403Z
DTSTART:20210707T170000Z
DTEND:20210707T215000Z
LOCATION:
SUMMARY:Bilbingo
DESCRIPTION:Äntligen dags för bilbingopremiär på Änglavallen! Plats: I
 drottsplatsen i Vattholma\,  Godtemplarv. 1 Dag och tid: Onsdagar med start
  7 juli kl. 19. Brickförsäljning startar kl. 17.00 (endast kontant betaln
 ing). Bingon spelas 7/7 &#8211; 25/8. Endast bilburna bingospelare. Vi hjä
 lps åt med att hålla avstånden till varandra\,  så vi kan bedriva[..]\n
 https://astraken.se/events/bilbingo/
URL:https://astraken.se/events/bilbingo/
END:VEVENT
END:VCALENDAR