BEGIN:VCALENDAR
VERSION:2.0
PRODID:-//eventon.com NONSGML v1.0//EN
CALSCALE:GREGORIAN
METHOD:PUBLISH
BEGIN:VEVENT
UID:69eb88c52292b
DTSTAMP:20260424T151413Z
DTSTART:20210822T160000Z
DTEND:20210822T215000Z
LOCATION:Storvreta församlingsgård
SUMMARY:Musik i sommarkväll
DESCRIPTION:Hopp och längtan Musikgruppen Voice of heart under ledning av 
 Niclas Dahl spelar musik av Simon &amp; Garfunkel\,  Niclas Strömstedt\,  
 TOTO mm. Storvreta församlingsgård 18.00\nhttps://astraken.se/events/musi
 k-i-sommarkvall-4/
URL:https://astraken.se/events/musik-i-sommarkvall-4/
END:VEVENT
END:VCALENDAR