BEGIN:VCALENDAR
VERSION:2.0
PRODID:-//eventon.com NONSGML v1.0//EN
CALSCALE:GREGORIAN
METHOD:PUBLISH
BEGIN:VEVENT
UID:69eb894c9b3cc
DTSTAMP:20260424T151628Z
DTSTART:20210725T160000Z
DTEND:20210725T215000Z
LOCATION:Tensta kyrka 743 93 Vattholma
SUMMARY:Musik i sommarkväll
DESCRIPTION:Erika Lindgren Liljenstolpe och Cecilia Österholm spelar folkm
 usik och egna tonsättningar av Edit Södergran. Tensta kyrka kl 18.00\nhtt
 ps://astraken.se/events/musik-i-sommarkvall-2/
URL:https://astraken.se/events/musik-i-sommarkvall-2/
END:VEVENT
END:VCALENDAR