BEGIN:VCALENDAR
VERSION:2.0
PRODID:-//eventon.com NONSGML v1.0//EN
CALSCALE:GREGORIAN
METHOD:PUBLISH
BEGIN:VEVENT
UID:69eb9da02b6e0
DTSTAMP:20260424T164312Z
DTSTART:20210918T120000Z
DTEND:20210918T215000Z
LOCATION:Salsta Slott Lena Salsta 63\,  Vattholma
SUMMARY:Musik på Salsta slott
DESCRIPTION:Lördag 18 September Musik på Salsta slott  kl.14 Jana Lan
 genbruch\,  flöjt. Pris 200 kr. Boka biljett på info@salsta-slott.se\nht
 tps://astraken.se/events/musik-pa-salsta-slott-3/
URL:https://astraken.se/events/musik-pa-salsta-slott-3/
END:VEVENT
END:VCALENDAR