BEGIN:VCALENDAR
VERSION:2.0
PRODID:-//eventon.com NONSGML v1.0//EN
CALSCALE:GREGORIAN
METHOD:PUBLISH
BEGIN:VEVENT
UID:69eb8378d67b4
DTSTAMP:20260424T145136Z
DTSTART:20210905T090000Z
DTEND:20210905T215000Z
LOCATION:Salsta Slott Lena Salsta 63\,  Vattholma
SUMMARY:Skördefest
DESCRIPTION:Skördefest och höstmarknad på Salsta slott\,  kl.11-15. Ett 
 tjugotal säljare\,  producenter\,  odlare och lokala hantverkare finns på
  plats med sina produkter på borggården. Centrumblommor erbjuder planteri
 ng av höstkrukan; Ta med din favoritkruka\,  välj och köp växter och vi
  bjuder på jord\,  näring och planteringsjobbet!  &#8211; Alpackor från
  Gränboda Gård finns[..]\nhttps://astraken.se/events/skordefest/
URL:https://astraken.se/events/skordefest/
END:VEVENT
END:VCALENDAR