BEGIN:VCALENDAR
VERSION:2.0
PRODID:-//eventon.com NONSGML v1.0//EN
CALSCALE:GREGORIAN
METHOD:PUBLISH
BEGIN:VEVENT
UID:69eb85ff4a8c8
DTSTAMP:20260424T150223Z
DTSTART:20210904T090000Z
DTEND:20210904T150000Z
LOCATION:Salsta Slott Lena Salsta 63\,  Vattholma
SUMMARY:Vernissage Konstutställning
DESCRIPTION:Lördag 4 september kl. 11-17 Vernissage Konstutställning Th
 is is the end – Beautiful friend av Backa Carin Ivarsdotter m fl  Ent
 ré 80 kr/person.\nhttps://astraken.se/events/vernissage-konstutstallning/
URL:https://astraken.se/events/vernissage-konstutstallning/
END:VEVENT
END:VCALENDAR