BEGIN:VCALENDAR
VERSION:2.0
PRODID:-//eventon.com NONSGML v1.0//EN
CALSCALE:GREGORIAN
METHOD:PUBLISH
BEGIN:VEVENT
UID:69eb8849ea53c
DTSTAMP:20260424T151209Z
DTSTART:20210703T130000Z
DTEND:20210703T215000Z
LOCATION:Salsta Slott Lena Salsta 63\,  Vattholma
SUMMARY:Musik på Salsta Slott
DESCRIPTION:Musik på Salsta slott\,  kl.15 på borggården PQ på Bjärvsa
 fari Pris 200 kr. Boka biljett på info@salsta-slott.se Studenter beväpnad
 e med instrument och dansskor åker genom landet för att underhålla. ”P
 romenadorquestern och med Baletten Paletten” heter de\,  och uppträder m
 ed gladjazz som är lämplig för både hela och halva familjen. Slottskaf
 et[..]\nhttps://astraken.se/events/musik-pa-salsta-slott-2/
URL:https://astraken.se/events/musik-pa-salsta-slott-2/
END:VEVENT
END:VCALENDAR