BEGIN:VCALENDAR
VERSION:2.0
PRODID:-//eventon.com NONSGML v1.0//EN
CALSCALE:GREGORIAN
METHOD:PUBLISH
BEGIN:VEVENT
UID:69eb840f95b64
DTSTAMP:20260424T145407Z
DTSTART:20210606T080000Z
DTEND:20210606T140000Z
LOCATION:
SUMMARY:Vendeldagen
DESCRIPTION:Välkommen den 6 juni. I över 20 år har Vendeldagen firats i 
 bygden. Firande av nationaldagen i all sin prakt och ära. Vendels Bygdegå
 rd håller öppet och serverar mat och dryck. Vendeldagen 2021 Vendeldagen 
 2021 kommer genomföras och Vendels bygdegård kommer vara samlingsplats (f
 okusområde). Här blir det firande med officiellt[..]\nhttps://astraken.se
 /events/vendeldagen/
URL:https://astraken.se/events/vendeldagen/
END:VEVENT
END:VCALENDAR