BEGIN:VCALENDAR
VERSION:2.0
PRODID:-//eventon.com NONSGML v1.0//EN
CALSCALE:GREGORIAN
METHOD:PUBLISH
BEGIN:VEVENT
UID:69eb86c9ab5d6
DTSTAMP:20260424T150545Z
DTSTART:20210625T210000Z
DTEND:20210624T220000Z
LOCATION:Ärentuna kyrka Ärentuna 21
SUMMARY:Musik i midsommarnatten
DESCRIPTION:Musik i midsommarnatten\nhttps://astraken.se/events/musik-i-mid
 sommarnatten/
URL:https://astraken.se/events/musik-i-midsommarnatten/
END:VEVENT
END:VCALENDAR