BEGIN:VCALENDAR
VERSION:2.0
PRODID:-//eventon.com NONSGML v1.0//EN
CALSCALE:GREGORIAN
METHOD:PUBLISH
BEGIN:VEVENT
UID:69eb9fa7570a7
DTSTAMP:20260424T165151Z
DTSTART:20210622T090000Z
DTEND:20210622T120000Z
LOCATION:
SUMMARY:Besök från 4H Årsta
DESCRIPTION:Välkomna att hälsa på gulliga djur idag! 4H kommer med höns
 \,  getter och kaniner till vår gräsmatta!\nhttps://astraken.se/events/be
 sok-fran-4h-arsta/
URL:https://astraken.se/events/besok-fran-4h-arsta/
END:VEVENT
END:VCALENDAR