BEGIN:VCALENDAR
VERSION:2.0
PRODID:-//eventon.com NONSGML v1.0//EN
CALSCALE:GREGORIAN
METHOD:PUBLISH
BEGIN:VEVENT
UID:69ed1dce4f8f3
DTSTAMP:20260425T200222Z
DTSTART:20210731
DTEND:20210801
LOCATION:
SUMMARY:Jakob Danhard\,  keramik
DESCRIPTION:Jakob Danhard\,  keramik i Sadelmakarlängans galleri 31 juli-2
 9 augusti Augusti månads utställning i Sadelmakarlängans galleri är ker
 amik av Jakob Danhard som är bosatt och verksam i Färila i Hälsningland.
  Mer information: https://www.roslagen.se/jakob-danhard-keramik-i-sadelmaka
 rlangans-galleri-31-juli-29-augusti Prisinformation: Fritt inträde Plats: 
 Sadelmakarlängan Mobilnummer: 073-7390219 Webbsida: www.sadelmakarlangan.s
 e Evenemangslänk: www.facebook.com/sadelmakarlängan Kontaktperson: Katari
 na Persson E-post: katarina@sadelmakarlangan.se Besöksadress: Lillgatan[..
 ]\nhttps://astraken.se/events/jakob-danhard-keramik/
URL:https://astraken.se/events/jakob-danhard-keramik/
END:VEVENT
END:VCALENDAR