BEGIN:VCALENDAR
VERSION:2.0
PRODID:-//eventon.com NONSGML v1.0//EN
CALSCALE:GREGORIAN
METHOD:PUBLISH
BEGIN:VEVENT
UID:69eb887b4a111
DTSTAMP:20260424T151259Z
DTSTART:20210703
DTEND:20210704
LOCATION:
SUMMARY:Edvard Koinberg\,  fotoutställning
DESCRIPTION:Edvard Koinberg\,  foto i Sadelmakarlängans galleri Edvard Koi
 nberg är fotograf med ett stort antal utställningar över hela världen b
 akom sig. Hans fotografier på blommor är ofta tagna i trakterna kring Dan
 nemora och Österbybruk och har en tidlös känsla över sig. Mer informati
 on: https://www.roslagen.se/edvard-koinberg-foto-i-sadelmakarlangans-galler
 i Prisinformation: Fritt inträde Plats: Sadelmakarlängan Mobilnummer: 073
 -7390219[..]\nhttps://astraken.se/events/edvard-koinberg-fotoutstallning/
URL:https://astraken.se/events/edvard-koinberg-fotoutstallning/
END:VEVENT
END:VCALENDAR