BEGIN:VCALENDAR
VERSION:2.0
PRODID:-//eventon.com NONSGML v1.0//EN
CALSCALE:GREGORIAN
METHOD:PUBLISH
BEGIN:VEVENT
UID:69eb8411a2792
DTSTAMP:20260424T145409Z
DTSTART:20210810T170000Z
DTEND:20210810T200000Z
LOCATION:
SUMMARY:Österbybruks operadagar
DESCRIPTION:Roslagens egen sommaropera laddar för en spektakulär operavec
 ka i augusti. För närvarande avvaktar vi lite med besked om exakta tider 
 och platser\,  men vi hoppas kunna bjuda både på en färgsprakande operap
 roduktion\,  en underhållande operaföreställning för alla barn samt fle
 ra andra evenemang. Plats: Österbybruks herrgårdsområde Telefonnummer: 0
 703069259 Webbsida: http://www.osterbyopera.com Evenemangslänk:[..]\nhttps
 ://astraken.se/events/osterbybruks-operadagar/
URL:https://astraken.se/events/osterbybruks-operadagar/
END:VEVENT
END:VCALENDAR