BEGIN:VCALENDAR
VERSION:2.0
PRODID:-//eventon.com NONSGML v1.0//EN
CALSCALE:GREGORIAN
METHOD:PUBLISH
BEGIN:VEVENT
UID:69eb9da76affd
DTSTAMP:20260424T164319Z
DTSTART:20210625T120000Z
DTEND:20210625T130000Z
LOCATION:Salsta Slott Lena Salsta 63\,  Vattholma
SUMMARY:Midsommarfirande på Salsta slott
DESCRIPTION:Konserterna genomförs i samverkan med Studieförbundet Vuxensk
 olan. Biljettpris 200 kronor. Biljetter bokas på info@salsta-slott.se Fred
 ag 25 juni BaraBarock spelar tyskt 1700-tal\,  konserter kl.14 och kl.16. S
 tockholm barock är en grupp musiker som träffats på Tidig musik-utbildni
 ngen vid Kungliga Musikhögskolan i Stockholm. På Salsta slott kommer de b
 land annat spela musik[..]\nhttps://astraken.se/events/midsommarfirande-pa-
 salsta-slott/
URL:https://astraken.se/events/midsommarfirande-pa-salsta-slott/
END:VEVENT
END:VCALENDAR