BEGIN:VCALENDAR
VERSION:2.0
PRODID:-//eventon.com NONSGML v1.0//EN
CALSCALE:GREGORIAN
METHOD:PUBLISH
BEGIN:VEVENT
UID:69eb9e0a0829a
DTSTAMP:20260424T164458Z
DTSTART:20210811T160000Z
DTEND:20210811T215000Z
LOCATION:Örbyhus slott
SUMMARY:Uppsala Kammarsolister & Gäster
DESCRIPTION:Uppsala Kammarsolister & Gäster\nhttps://astraken.se/events/up
 psala-kammarsolister-gaster/
URL:https://astraken.se/events/uppsala-kammarsolister-gaster/
END:VEVENT
END:VCALENDAR