BEGIN:VCALENDAR
VERSION:2.0
PRODID:-//eventon.com NONSGML v1.0//EN
CALSCALE:GREGORIAN
METHOD:PUBLISH
BEGIN:VEVENT
UID:69eb8867a9b12
DTSTAMP:20260424T151239Z
DTSTART:20210721T143000Z
DTEND:20210721T160000Z
LOCATION:Örbyhus slott
SUMMARY:Trio Paradiso\,  Rombo\,  Lindal
DESCRIPTION:Trio Paradiso\,  Rombo\,  Lindal\nhttps://astraken.se/events/tr
 io-paradiso-rombo-lindal/
URL:https://astraken.se/events/trio-paradiso-rombo-lindal/
END:VEVENT
END:VCALENDAR