BEGIN:VCALENDAR
VERSION:2.0
PRODID:-//eventon.com NONSGML v1.0//EN
CALSCALE:GREGORIAN
METHOD:PUBLISH
BEGIN:VEVENT
UID:69eb8376cb1c3
DTSTAMP:20260424T145134Z
DTSTART:20210706T130000Z
DTEND:20210706T140000Z
LOCATION:Örbyhus slott
SUMMARY:Ensemble Rebaroque
DESCRIPTION:Tisdag 6 juli kl 15.00 &amp; kl.18.00 Musik av Rameau\,  M.Mara
 is\,  Telemann\,  Roman\,  Molter Maria Lindal\,  violin Kerstin Frödin\, 
  Oboe &amp; Blockflöjt Joel Sundin\,  viola Magdalena Mårding\,  cello Jo
 nas Dominique\,  kontrabas Peter Lönnerberg\,  cembalo Program: J.Ph.Ramea
 u ur Les Boreades M.Marais. Sonnerie de Sainte-Genevieve du Mont de Paris G
 .Telemann Trio Sonate[..]\nhttps://astraken.se/events/ensemble-rebaroque/
URL:https://astraken.se/events/ensemble-rebaroque/
END:VEVENT
END:VCALENDAR